BEGIN:VCALENDAR
VERSION:2.0
PRODID:-//pretix//pretix.eu//
BEGIN:VTIMEZONE
TZID:Europe/Berlin
BEGIN:STANDARD
DTSTART:20001029T040000
RRULE:FREQ=YEARLY;BYDAY=-1SU;BYMONTH=10
TZNAME:CET
TZOFFSETFROM:+0200
TZOFFSETTO:+0100
END:STANDARD
BEGIN:DAYLIGHT
DTSTART:20000326T030000
RRULE:FREQ=YEARLY;BYDAY=-1SU;BYMONTH=3
TZNAME:CEST
TZOFFSETFROM:+0100
TZOFFSETTO:+0200
END:DAYLIGHT
END:VTIMEZONE
BEGIN:VEVENT
UID:pretix-tsc-waldkraiburg-tanztheater-4722136@tsc-waldkraiburg.vereinstic
 ket.de
DTSTART;TZID=Europe/Berlin:20260412T180000
DTEND;TZID=Europe/Berlin:20260412T190000
DESCRIPTION:Tickets: https://tsc-waldkraiburg.vereinsticket.de/tanztheater/
 4722136/\nEinlass: 12.04.2026 17:00\nVeranstalter: TSC Weiß-Blau 70 Waldk
 raiburg
DTSTAMP:20260425T103644Z
LOCATION:Gemeindehalle Aschau\, Schulstraße 3\, 84544 Aschau am Inn
SUMMARY:Varientino - ein einzigartiger Deal
END:VEVENT
END:VCALENDAR
